BEGIN:VCALENDAR
VERSION:2.0
PRODID:-//Center for the Study of Women - ECPv6.15.17.1//NONSGML v1.0//EN
CALSCALE:GREGORIAN
METHOD:PUBLISH
X-WR-CALNAME:Center for the Study of Women
X-ORIGINAL-URL:https://csw.ucla.edu
X-WR-CALDESC:Events for Center for the Study of Women
REFRESH-INTERVAL;VALUE=DURATION:PT1H
X-Robots-Tag:noindex
X-PUBLISHED-TTL:PT1H
BEGIN:VTIMEZONE
TZID:America/Los_Angeles
BEGIN:DAYLIGHT
TZOFFSETFROM:-0800
TZOFFSETTO:-0700
TZNAME:PDT
DTSTART:20220313T100000
END:DAYLIGHT
BEGIN:STANDARD
TZOFFSETFROM:-0700
TZOFFSETTO:-0800
TZNAME:PST
DTSTART:20221106T090000
END:STANDARD
BEGIN:DAYLIGHT
TZOFFSETFROM:-0800
TZOFFSETTO:-0700
TZNAME:PDT
DTSTART:20230312T100000
END:DAYLIGHT
BEGIN:STANDARD
TZOFFSETFROM:-0700
TZOFFSETTO:-0800
TZNAME:PST
DTSTART:20231105T090000
END:STANDARD
BEGIN:DAYLIGHT
TZOFFSETFROM:-0800
TZOFFSETTO:-0700
TZNAME:PDT
DTSTART:20240310T100000
END:DAYLIGHT
BEGIN:STANDARD
TZOFFSETFROM:-0700
TZOFFSETTO:-0800
TZNAME:PST
DTSTART:20241103T090000
END:STANDARD
END:VTIMEZONE
BEGIN:VEVENT
DTSTART;TZID=America/Los_Angeles:20230301T153000
DTEND;TZID=America/Los_Angeles:20230301T170000
DTSTAMP:20260425T202248
CREATED:20230228T220651Z
LAST-MODIFIED:20230228T221516Z
UID:22656-1677684600-1677690000@csw.ucla.edu
SUMMARY:“Refusing Death: Immigrant Women and the Fight For Justice in LA”
DESCRIPTION:  \n  \nMarch 1st\, 2023 @  3:30-5 PM (reception 5-6PM) \nBunche Hall/ Zoom \n\nWant to learn more about race and environmental justice in LA? Come to this event with Professor Kim from Loyola Marymount University to talk about the book “Refusing Death”!\n\nDive deep into discussions of race\, class\, gender\, and more.\nRegister here.\n\n\n 
URL:https://csw.ucla.edu/event/refusing-death-immigrant-women-and-the-fight-for-justice-in-la/
CATEGORIES:Cosponsorship
END:VEVENT
BEGIN:VEVENT
DTSTART;TZID=America/Los_Angeles:20230308T164500
DTEND;TZID=America/Los_Angeles:20230308T181500
DTSTAMP:20260425T202248
CREATED:20230303T002950Z
LAST-MODIFIED:20230303T002950Z
UID:22676-1678293900-1678299300@csw.ucla.edu
SUMMARY:Keynote by Marion Buller
DESCRIPTION:Keynote by Marion Buller\nWed\, March 8\, 2023\, 4:45 PM – 6:15 PM  \n \nMarion Buller is a judge and human rights advocate who helped form the First Nations Courts in British Columbia and is the first woman Indigenous judge in Canada. She was the Chief Commissioner for the Canadian National Inquiry into Missing and Murdered Indigenous Women and Girls. She is currently Chancellor of the University of Victoria\, BC. \n  \nJudge Buller will speak on the future of justice and reparations for Missing and Murdered Indigenous Women and Girls following the National Inquiry. Julissa Mantilla\, Inter-American Commission on Human Rights Commissioner will follow her remarks with a perspective from the IACHR.
URL:https://csw.ucla.edu/event/keynote-by-marion-buller/
LOCATION:UCLA Meyer and Renee Luskin Conference Center\, Laureate Room\, 425 Westwood Plaza\, Los Angeles\, 90095\, United States
CATEGORIES:Cosponsorship
END:VEVENT
END:VCALENDAR