BEGIN:VCALENDAR
VERSION:2.0
PRODID:-//Center for the Study of Women - ECPv6.15.17.1//NONSGML v1.0//EN
CALSCALE:GREGORIAN
METHOD:PUBLISH
X-WR-CALNAME:Center for the Study of Women
X-ORIGINAL-URL:https://csw.ucla.edu
X-WR-CALDESC:Events for Center for the Study of Women
REFRESH-INTERVAL;VALUE=DURATION:PT1H
X-Robots-Tag:noindex
X-PUBLISHED-TTL:PT1H
BEGIN:VTIMEZONE
TZID:America/Los_Angeles
BEGIN:DAYLIGHT
TZOFFSETFROM:-0800
TZOFFSETTO:-0700
TZNAME:PDT
DTSTART:20250309T100000
END:DAYLIGHT
BEGIN:STANDARD
TZOFFSETFROM:-0700
TZOFFSETTO:-0800
TZNAME:PST
DTSTART:20251102T090000
END:STANDARD
BEGIN:DAYLIGHT
TZOFFSETFROM:-0800
TZOFFSETTO:-0700
TZNAME:PDT
DTSTART:20260308T100000
END:DAYLIGHT
BEGIN:STANDARD
TZOFFSETFROM:-0700
TZOFFSETTO:-0800
TZNAME:PST
DTSTART:20261101T090000
END:STANDARD
BEGIN:DAYLIGHT
TZOFFSETFROM:-0800
TZOFFSETTO:-0700
TZNAME:PDT
DTSTART:20270314T100000
END:DAYLIGHT
BEGIN:STANDARD
TZOFFSETFROM:-0700
TZOFFSETTO:-0800
TZNAME:PST
DTSTART:20271107T090000
END:STANDARD
END:VTIMEZONE
BEGIN:VEVENT
DTSTART;TZID=America/Los_Angeles:20260421T140000
DTEND;TZID=America/Los_Angeles:20260421T160000
DTSTAMP:20260424T083841
CREATED:20260415T193810Z
LAST-MODIFIED:20260415T193848Z
UID:31651-1776780000-1776787200@csw.ucla.edu
SUMMARY:Book Event: Queer Throughlines: Spaces of Queer Activism in South Korea and the Korean Diaspora
DESCRIPTION:Prof. Ju Hui Judy Han (UCLA) joined by Prof. Giancarlo Cornejo Salinas (UCLA)\, Prof. Grace Kyung-won Hong (UCLA)\, Laura Hyun Yi Kang (UC Irvine)\, and Dr. Yeong Ran Kim\nTuesday\, April 21\, 2026\n2:00 PM – 4:00 PM\nBunche Hall\, Room 10383 \n\nAbout the Book   \nQueer Throughlines draws on years of direct participation\, interviews\, and ethnography to examine transnational Korean LGBTQ+ activism since the 1990s. Han maps the sites and routes of leftist and queer political movements\, highlighting challenges posed by Christian conservatives in both South Korea and the United States. The book uses the concept of “throughlines” to weave together a web of movement stories across time and space: a coalition of Los Angeles-based LGBTQ+ activists and allies fighting an anti-gay petition campaign led by Korean immigrant churches; queer activists involved in anti-war protests in Seoul; progressive clergy embracing inclusivity and risking heresy charges and excommunication; and queer and trans activists refusing to be sidelined form visions of political change underway. These moments do not always line up in a straightforward narrative of victory of progress\, yet they create powerful lines of solidarity\, community\, and kinship. \nModerated by Grace Kyung-won Hong (Asian American Studies and Gender Studies at UCLA\, it will begin with brief comments by Ju Hui Judy Han (Gender Studies at UCLA) and then shift to an open ended dialogue among panelists\, with Giancarlo Cornejo Salinas (Gender Studies at UCLA)\, Laura Hyun Yi Kang (Gender & Sexuality Studies at UC Irvine)\, and Yeong Ran Kim. \nDiscussion \nModerated by Prof. Grace Kyung-won Hong\, Dept. of Asian American Studies\, UCLA 
URL:https://csw.ucla.edu/event/book-event-queer-throughlines-spaces-of-queer-activism-in-south-korea-and-the-korean-diaspora/
LOCATION:10383 Bunche Hall\, UCLA\, Los Angeles\, CA
CATEGORIES:Cosponsorship
ATTACH;FMTTYPE=image/png:https://csw.ucla.edu/wp-content/uploads/2026/04/Queer-Throughlines-.png
END:VEVENT
BEGIN:VEVENT
DTSTART;TZID=America/Los_Angeles:20260423T120000
DTEND;TZID=America/Los_Angeles:20260423T133000
DTSTAMP:20260424T083841
CREATED:20260422T191013Z
LAST-MODIFIED:20260422T191013Z
UID:31674-1776945600-1776951000@csw.ucla.edu
SUMMARY:Our Universities on the Brink: The Institution and the Commons
DESCRIPTION:CULTURE\, POWER\, SOCIAL CHANGE PRESENTS… \nCharlie Hale\, Dean of Social Sciences\, \nUC Santa Barbara \nOur Universities on the Brink: The Institution and the Commons \nThursday 4.23.26 \nHaines Hall 352 \n12:15 PM \nThis paper builds from the premise that\, to confront the multiple forces of disruption\, all who inhabit universities are called upon to engage critical university studies. This is especially crucial for those who belong to the imagined “we” that Dean Hale invokes at the outset\, since “our” efforts to advance and defend an alternative social purpose of the public university are most vulnerable to these forces. His analysis explores the general contours and contradictions of this work\, and more specifically\, what happens when the efforts are supported by the dean’s office. \nBoth the analysis\, and his ideas for possible ways forward\, rest on a distinction between the institution and the commons. This notion of the commons offers a means to fortify our defenses and inspire a collective sense of purpose as we engage in a necessary\, and hopefully short-lived\, strategic retreat. \nCharlie Hale is the author of Resistance and Contradiction: Miskitu Indians and the Nicaraguan State\, 1894-1987 (1994); and “Más que un indio…” Racial Ambivalence and Neoliberal Multiculturalism in Guatemala (2006); editor of Engaging Contradictions: Theory\, Politics and Methods of Activist Scholarship (2008); co-editor (with Lynn Stephen) of Otros Saberes: Collaborative Research with Black and Indigenous Peoples in Latin America (2014); author of articles on activist scholarship\, identity politics\, racism\, land rights and territorial autonomy\, resistance to neoliberalism among Indigenous and Afro-descendant peoples of Latin America. Director of LLILAS Benson Latin American Studies and Collections (UT Austin\, 2009-16) and President of the Latin American Studies Association (2006-7).
URL:https://csw.ucla.edu/event/our-universities-on-the-brink-the-institution-and-the-commons/
LOCATION:Haines 352
CATEGORIES:Cosponsorship
ATTACH;FMTTYPE=image/png:https://csw.ucla.edu/wp-content/uploads/2026/04/Our-Universities-on-the-Brink-Flier.png
END:VEVENT
BEGIN:VEVENT
DTSTART;TZID=America/Los_Angeles:20260423T140000
DTEND;TZID=America/Los_Angeles:20260423T153000
DTSTAMP:20260424T083841
CREATED:20260414T173036Z
LAST-MODIFIED:20260414T173036Z
UID:31636-1776952800-1776958200@csw.ucla.edu
SUMMARY:"Dolores": Free Spring Film Screening by CSW|Streisand Center
DESCRIPTION:When: Thursday\, April 23rd from 2-3:30pm \nWhere: Center for the Study of Women | Streisand Center\, 1500 Public Affairs \nJoin us at CSW|Streisand Center for our Spring Film Screening of Dolores. \nDolores (2017) is a documentary directed by Peter Bratt that chronicles the life of Dolores Huerta\, the undervalued co-founder of the United Farm Workers union. The film highlights her crucial role in fighting for labor rights\, racial justice\, and feminism\, while exploring her life as a mother of 11 and her battle against sexism. \nThis event is FREE of cost! Additionally\, popcorn and tea will be provided at the screening. We would love to see you there!
URL:https://csw.ucla.edu/event/dolores-free-spring-film-screening-by-cswstreisand-center/
LOCATION:1500 Public Affairs
CATEGORIES:CSW originated,Streisand Center
ATTACH;FMTTYPE=image/png:https://csw.ucla.edu/wp-content/uploads/2026/04/Spring-Film-Screening.png
END:VEVENT
BEGIN:VEVENT
DTSTART;TZID=America/Los_Angeles:20260430T160000
DTEND;TZID=America/Los_Angeles:20260430T180000
DTSTAMP:20260424T083841
CREATED:20260331T190017Z
LAST-MODIFIED:20260331T190017Z
UID:31536-1777564800-1777572000@csw.ucla.edu
SUMMARY:Dean’s Lecture in Humanistic Inquiry: Kate Manne on Sensitivity and Survival
DESCRIPTION:The Inaugural Dean’s Lecture in Humanistic Inquiry\nThursday\, April 30\n4 p.m. – 6 p.m.\nRoyce Hall Room 314 \nFree admission. Reception with light refreshments to follow lecture. Advance registration strongly recommended. \nPresented by the UCLA College Division of Humanities\nThe Dean’s Lecture in Humanistic Inquiry is a biennial lecture dedicated to exploring cross-cutting topics and ideas in humanistic research and examining how humanistic inquiry connects to the most pressing questions of the day. \nAbout our inaugural speaker\nKate Manne is a professor at the Sage School of Philosophy at Cornell University. She specializes in moral\, social and feminist philosophy\, and has written three books: DOWN GIRL: The Logic of Misogyny (Oxford University Press\, 2018)\, ENTITLED: How Male Privilege Hurts Women (Crown\, 2020) and UNSHRINKING: How to Face Fatphobia (Crown\, 2024). In addition to her academic work\, she regularly writes opinion pieces and essays for a wider audience\, including in outlets such as The New York Times\, The Cut\, The Washington Post\, The Atlantic\, The Nation and Time. She writes a Substack newsletter\, More to Hate\, exploring misogyny\, fatphobia and their intersection. \nAbout Professor Manne’s lecture\nSensitivity and Survival\nAccusations of oversensitivity are nowadays very common. Are they typically warranted? Is there in fact a scourge of snowflakes? \nIn this lecture\, Kate Manne will distinguish three things that are commonly meant by “oversensitivity”: over-identification of instances\, over-extension of the relevant concepts and over-reactions to the relevant harms or forms of injustice\, such as sexism\, misogyny and racism. Her talk will draw on two rich humanistic traditions: feminist epistemology and non-ideal theory. \nWhile acknowledging that oversensitivity of all three kinds can and does occur\, Manne will highlight and explore the comparatively under-emphasized converse dangers: the under-identification of instances\, the under-extension of concepts\, and under-reactions or the undermining of warranted reactions\, respectively. In view of this\, she concludes that what is called oversensitivity is often simply sensitivity: a normatively valuable and justified way of reacting to harms and injustices that often go under the radar in society as we know it. \nPlease visit this page to register. \nEvent cosponsors\nThank you to our cosponsors: UCLA Department of Philosophy\, UCLA Department of Gender Studies\, UCLA Center for the Study of Women | Streisand Center\, and UCLA Program in Experimental Critical Theory
URL:https://csw.ucla.edu/event/deans-lecture-in-humanistic-inquiry-kate-manne-on-sensitivity-and-survival/
LOCATION:Royce 314
CATEGORIES:Cosponsorship
ATTACH;FMTTYPE=image/png:https://csw.ucla.edu/wp-content/uploads/2026/03/Kate-Manne_Deans-Lecture.png
END:VEVENT
BEGIN:VEVENT
DTSTART;TZID=America/Los_Angeles:20260628T190000
DTEND;TZID=America/Los_Angeles:20260628T210000
DTSTAMP:20260424T083841
CREATED:20260407T175307Z
LAST-MODIFIED:20260407T175307Z
UID:31595-1782673200-1782680400@csw.ucla.edu
SUMMARY:"Legacy": Free Screening by UCLA Film & Television Archive
DESCRIPTION:When: Sunday\, June 28th at 7:00pm \nWhere: Billy Wilder Theater at the Hammer Museum \nJoin UCLA Film & Television Archive for a free screening of “Legacy”! \nDirected by Karen Arthur\, a first-time filmmaker\, and independently produced\, “Legacy” confounds 1970s Hollywood’s expectations with the introduction of a new kind of cinematic woman. Bissie (played by Joan Hotchkis) is a woman unraveling under the pressures of a vapid and materialistic society. She stuns audiences with her honesty that is confrontational\, yet heartfelt\, and her vulnerability.
URL:https://csw.ucla.edu/event/legacy-free-screening-by-ucla-film-television-archive/
LOCATION:Billy Wilder Theater\, 10899 Wilshire Blvd.\,\, Los Angeles\, CA\, 90024\, United States
CATEGORIES:Cosponsorship
ATTACH;FMTTYPE=image/jpeg:https://csw.ucla.edu/wp-content/uploads/2026/04/legacyflyer.jpg
END:VEVENT
END:VCALENDAR