BEGIN:VCALENDAR
VERSION:2.0
PRODID:-//Center for the Study of Women - ECPv6.15.17.1//NONSGML v1.0//EN
CALSCALE:GREGORIAN
METHOD:PUBLISH
X-ORIGINAL-URL:https://csw.ucla.edu
X-WR-CALDESC:Events for Center for the Study of Women
REFRESH-INTERVAL;VALUE=DURATION:PT1H
X-Robots-Tag:noindex
X-PUBLISHED-TTL:PT1H
BEGIN:VTIMEZONE
TZID:America/Los_Angeles
BEGIN:DAYLIGHT
TZOFFSETFROM:-0800
TZOFFSETTO:-0700
TZNAME:PDT
DTSTART:20250309T100000
END:DAYLIGHT
BEGIN:STANDARD
TZOFFSETFROM:-0700
TZOFFSETTO:-0800
TZNAME:PST
DTSTART:20251102T090000
END:STANDARD
BEGIN:DAYLIGHT
TZOFFSETFROM:-0800
TZOFFSETTO:-0700
TZNAME:PDT
DTSTART:20260308T100000
END:DAYLIGHT
BEGIN:STANDARD
TZOFFSETFROM:-0700
TZOFFSETTO:-0800
TZNAME:PST
DTSTART:20261101T090000
END:STANDARD
BEGIN:DAYLIGHT
TZOFFSETFROM:-0800
TZOFFSETTO:-0700
TZNAME:PDT
DTSTART:20270314T100000
END:DAYLIGHT
BEGIN:STANDARD
TZOFFSETFROM:-0700
TZOFFSETTO:-0800
TZNAME:PST
DTSTART:20271107T090000
END:STANDARD
END:VTIMEZONE
BEGIN:VEVENT
DTSTART;TZID=America/Los_Angeles:20260423T120000
DTEND;TZID=America/Los_Angeles:20260423T133000
DTSTAMP:20260424T065612
CREATED:20260422T191013Z
LAST-MODIFIED:20260422T191013Z
UID:31674-1776945600-1776951000@csw.ucla.edu
SUMMARY:Our Universities on the Brink: The Institution and the Commons
DESCRIPTION:CULTURE\, POWER\, SOCIAL CHANGE PRESENTS… \nCharlie Hale\, Dean of Social Sciences\, \nUC Santa Barbara \nOur Universities on the Brink: The Institution and the Commons \nThursday 4.23.26 \nHaines Hall 352 \n12:15 PM \nThis paper builds from the premise that\, to confront the multiple forces of disruption\, all who inhabit universities are called upon to engage critical university studies. This is especially crucial for those who belong to the imagined “we” that Dean Hale invokes at the outset\, since “our” efforts to advance and defend an alternative social purpose of the public university are most vulnerable to these forces. His analysis explores the general contours and contradictions of this work\, and more specifically\, what happens when the efforts are supported by the dean’s office. \nBoth the analysis\, and his ideas for possible ways forward\, rest on a distinction between the institution and the commons. This notion of the commons offers a means to fortify our defenses and inspire a collective sense of purpose as we engage in a necessary\, and hopefully short-lived\, strategic retreat. \nCharlie Hale is the author of Resistance and Contradiction: Miskitu Indians and the Nicaraguan State\, 1894-1987 (1994); and “Más que un indio…” Racial Ambivalence and Neoliberal Multiculturalism in Guatemala (2006); editor of Engaging Contradictions: Theory\, Politics and Methods of Activist Scholarship (2008); co-editor (with Lynn Stephen) of Otros Saberes: Collaborative Research with Black and Indigenous Peoples in Latin America (2014); author of articles on activist scholarship\, identity politics\, racism\, land rights and territorial autonomy\, resistance to neoliberalism among Indigenous and Afro-descendant peoples of Latin America. Director of LLILAS Benson Latin American Studies and Collections (UT Austin\, 2009-16) and President of the Latin American Studies Association (2006-7).
URL:https://csw.ucla.edu/event/our-universities-on-the-brink-the-institution-and-the-commons/
LOCATION:Haines 352
CATEGORIES:Cosponsorship
ATTACH;FMTTYPE=image/png:https://csw.ucla.edu/wp-content/uploads/2026/04/Our-Universities-on-the-Brink-Flier.png
END:VEVENT
BEGIN:VEVENT
DTSTART;TZID=America/Los_Angeles:20260423T140000
DTEND;TZID=America/Los_Angeles:20260423T153000
DTSTAMP:20260424T065612
CREATED:20260414T173036Z
LAST-MODIFIED:20260414T173036Z
UID:31636-1776952800-1776958200@csw.ucla.edu
SUMMARY:"Dolores": Free Spring Film Screening by CSW|Streisand Center
DESCRIPTION:When: Thursday\, April 23rd from 2-3:30pm \nWhere: Center for the Study of Women | Streisand Center\, 1500 Public Affairs \nJoin us at CSW|Streisand Center for our Spring Film Screening of Dolores. \nDolores (2017) is a documentary directed by Peter Bratt that chronicles the life of Dolores Huerta\, the undervalued co-founder of the United Farm Workers union. The film highlights her crucial role in fighting for labor rights\, racial justice\, and feminism\, while exploring her life as a mother of 11 and her battle against sexism. \nThis event is FREE of cost! Additionally\, popcorn and tea will be provided at the screening. We would love to see you there!
URL:https://csw.ucla.edu/event/dolores-free-spring-film-screening-by-cswstreisand-center/
LOCATION:1500 Public Affairs
CATEGORIES:CSW originated,Streisand Center
ATTACH;FMTTYPE=image/png:https://csw.ucla.edu/wp-content/uploads/2026/04/Spring-Film-Screening.png
END:VEVENT
END:VCALENDAR