BEGIN:VCALENDAR
VERSION:2.0
PRODID:-//Center for the Study of Women - ECPv6.15.17.1//NONSGML v1.0//EN
CALSCALE:GREGORIAN
METHOD:PUBLISH
X-WR-CALNAME:Center for the Study of Women
X-ORIGINAL-URL:https://csw.ucla.edu
X-WR-CALDESC:Events for Center for the Study of Women
REFRESH-INTERVAL;VALUE=DURATION:PT1H
X-Robots-Tag:noindex
X-PUBLISHED-TTL:PT1H
BEGIN:VTIMEZONE
TZID:America/Los_Angeles
BEGIN:DAYLIGHT
TZOFFSETFROM:-0800
TZOFFSETTO:-0700
TZNAME:PDT
DTSTART:20240310T100000
END:DAYLIGHT
BEGIN:STANDARD
TZOFFSETFROM:-0700
TZOFFSETTO:-0800
TZNAME:PST
DTSTART:20241103T090000
END:STANDARD
BEGIN:DAYLIGHT
TZOFFSETFROM:-0800
TZOFFSETTO:-0700
TZNAME:PDT
DTSTART:20250309T100000
END:DAYLIGHT
BEGIN:STANDARD
TZOFFSETFROM:-0700
TZOFFSETTO:-0800
TZNAME:PST
DTSTART:20251102T090000
END:STANDARD
BEGIN:DAYLIGHT
TZOFFSETFROM:-0800
TZOFFSETTO:-0700
TZNAME:PDT
DTSTART:20260308T100000
END:DAYLIGHT
BEGIN:STANDARD
TZOFFSETFROM:-0700
TZOFFSETTO:-0800
TZNAME:PST
DTSTART:20261101T090000
END:STANDARD
END:VTIMEZONE
BEGIN:VEVENT
DTSTART;TZID=America/Los_Angeles:20250213T170000
DTEND;TZID=America/Los_Angeles:20250213T183000
DTSTAMP:20260425T145430
CREATED:20250121T192052Z
LAST-MODIFIED:20250121T193403Z
UID:28993-1739466000-1739471400@csw.ucla.edu
SUMMARY:Letters to Home: Art and Writing by LGBTQ+ Nikkei and Allies Book TalkThursday\,
DESCRIPTION:When: Thursday\, February 13\, 2025\, 5:00pm – 6:15pm\nWhere: Broad 2160E \nLetters to Home is among the first anthologies to spotlight LGBTQ+ Nikkei experiences and allyship through an intergenerational lens. \nMarsha Aizumi (she/her) is the founder of Okaeri\, co-founder of PFLAG San Gabriel Valley API\, and a mother of a transgender son who\ninspired her to advocate for the Nikkei LGBTQ+ communities. Marsha and her son\, Aiden\, wrote “Two Spirits\, One Heart.” They have traveled all over the U.S. to speak and encourage LGBTQ+ individuals and their families to embrace their true selves. \nCody Uyeda (he/him) is a fourth generation Japanese American from Southern California. He is currently Okaeri’s Program & Admin Coordinator\, and previously came from a background in the education\, research\, and legal fields. He is passionate about supporting the Japanese American community\, as well as exploring culture\, arts\, and the outdoors. \nRino Kodama (they/them) is a nonbinary shin- nisei artist based in Los Angeles\, originally from the Bay Area. When they are not working as Okaeri’s Tech & Media Marketing Coordinator\, you can find them in their backyard ceramic studio hand building sculptures and vases. They are passionate in helping shape a compassionate Japanese American community that is able to hold our queer and trans multiplicities and expansiveness. \nModerated by Grace Hong\, professor of Gender Studies and Asian American Studies at UCLA.
URL:https://csw.ucla.edu/event/letters-to-home-art-and-writing-by-lgbtq-nikkei-and-allies-book-talkthursday/
CATEGORIES:Cosponsorship
ATTACH;FMTTYPE=image/png:https://csw.ucla.edu/wp-content/uploads/2025/01/Letters-to-Home-Flier.png
END:VEVENT
END:VCALENDAR